Package: ngsReports Version: 2.10.1 Command: /Library/Frameworks/R.framework/Resources/bin/R CMD INSTALL ngsReports StartedAt: 2025-10-06 16:04:51 -0400 (Mon, 06 Oct 2025) EndedAt: 2025-10-06 16:05:36 -0400 (Mon, 06 Oct 2025) EllapsedTime: 45.1 seconds RetCode: 0 Status: OK