Package: ngsReports Version: 2.10.1 Command: /Library/Frameworks/R.framework/Resources/bin/R CMD build --keep-empty-dirs --no-resave-data ngsReports StartedAt: 2025-10-06 21:05:48 -0400 (Mon, 06 Oct 2025) EndedAt: 2025-10-06 21:08:52 -0400 (Mon, 06 Oct 2025) EllapsedTime: 183.6 seconds RetCode: 0 Status: OK PackageFile: ngsReports_2.10.1.tar.gz PackageFileSize: 3.184 MiB