Package: ngsReports Version: 2.10.1 Command: rm -rf ngsReports.buildbin-libdir && mkdir ngsReports.buildbin-libdir && /Users/biocbuild/BBS/utils/build-universal.sh ngsReports_2.10.1.tar.gz /Library/Frameworks/R.framework/Resources/bin/R ngsReports.buildbin-libdir StartedAt: 2025-10-07 13:57:48 -0400 (Tue, 07 Oct 2025) EndedAt: 2025-10-07 13:59:07 -0400 (Tue, 07 Oct 2025) EllapsedTime: 79.1 seconds RetCode: 0 Status: OK PackageFile: ngsReports_2.10.1.tgz PackageFileSize: 3.786 MiB