Package: netprioR Version: 1.34.0 Command: /Library/Frameworks/R.framework/Resources/bin/R CMD INSTALL netprioR StartedAt: 2025-10-13 15:15:45 -0400 (Mon, 13 Oct 2025) EndedAt: 2025-10-13 15:16:02 -0400 (Mon, 13 Oct 2025) EllapsedTime: 16.8 seconds RetCode: 0 Status: OK