Package: netprioR Version: 1.34.0 Command: /Library/Frameworks/R.framework/Resources/bin/R CMD build --keep-empty-dirs --no-resave-data netprioR StartedAt: 2025-10-13 21:06:17 -0400 (Mon, 13 Oct 2025) EndedAt: 2025-10-13 21:07:42 -0400 (Mon, 13 Oct 2025) EllapsedTime: 85.2 seconds RetCode: 0 Status: OK PackageFile: netprioR_1.34.0.tar.gz PackageFileSize: 546.3 KiB