Package: netprioR Version: 1.34.0 Command: rm -rf netprioR.buildbin-libdir && mkdir netprioR.buildbin-libdir && /Users/biocbuild/BBS/utils/build-universal.sh netprioR_1.34.0.tar.gz /Library/Frameworks/R.framework/Resources/bin/R netprioR.buildbin-libdir StartedAt: 2025-10-14 14:15:35 -0400 (Tue, 14 Oct 2025) EndedAt: 2025-10-14 14:16:01 -0400 (Tue, 14 Oct 2025) EllapsedTime: 26.0 seconds RetCode: 0 Status: OK PackageFile: netprioR_1.34.0.tgz PackageFileSize: 726.7 KiB