Package: netprioR Version: 1.34.0 Command: /home/biocbuild/R/R/bin/R CMD INSTALL netprioR StartedAt: 2025-10-13 20:19:47 -0000 (Mon, 13 Oct 2025) EndedAt: 2025-10-13 20:20:00 -0000 (Mon, 13 Oct 2025) EllapsedTime: 13.5 seconds RetCode: 0 Status: OK