Package: netprioR Version: 1.34.0 Command: /home/biocbuild/R/R/bin/R CMD build --keep-empty-dirs --no-resave-data netprioR StartedAt: 2025-10-14 03:03:47 -0000 (Tue, 14 Oct 2025) EndedAt: 2025-10-14 03:04:57 -0000 (Tue, 14 Oct 2025) EllapsedTime: 70.1 seconds RetCode: 0 Status: OK PackageFile: netprioR_1.34.0.tar.gz PackageFileSize: 544.5 KiB