Package: netboost Version: 2.16.0 Command: /home/biocbuild/bbs-3.21-bioc/R/bin/R CMD build --keep-empty-dirs --no-resave-data netboost StartedAt: 2025-10-15 18:50:33 -0400 (Wed, 15 Oct 2025) EndedAt: 2025-10-15 18:51:31 -0400 (Wed, 15 Oct 2025) EllapsedTime: 58.0 seconds RetCode: 0 Status: OK PackageFile: netboost_2.16.0.tar.gz PackageFileSize: 1.138 MiB