Package: netboost Version: 2.16.0 Command: /Library/Frameworks/R.framework/Resources/bin/R CMD check --install=check:netboost.install-out.txt --library=/Library/Frameworks/R.framework/Resources/library --no-vignettes --timings netboost_2.16.0.tar.gz StartedAt: 2025-10-14 07:26:19 -0400 (Tue, 14 Oct 2025) EndedAt: 2025-10-14 07:33:41 -0400 (Tue, 14 Oct 2025) EllapsedTime: 441.8 seconds RetCode: 0 Status: WARNINGS CheckDir: netboost.Rcheck Warnings: 1