Package: netboost Version: 2.16.0 Command: /Library/Frameworks/R.framework/Resources/bin/R CMD check --install=check:netboost.install-out.txt --library=/Library/Frameworks/R.framework/Resources/library --no-vignettes --timings netboost_2.16.0.tar.gz StartedAt: 2025-04-21 22:17:09 -0400 (Mon, 21 Apr 2025) EndedAt: 2025-04-21 22:20:32 -0400 (Mon, 21 Apr 2025) EllapsedTime: 203.3 seconds RetCode: 0 Status: WARNINGS CheckDir: netboost.Rcheck Warnings: 1