Package: netboost Version: 2.16.0 Command: /Library/Frameworks/R.framework/Resources/bin/R CMD build --keep-empty-dirs --no-resave-data netboost StartedAt: 2025-04-21 17:43:56 -0400 (Mon, 21 Apr 2025) EndedAt: 2025-04-21 17:45:13 -0400 (Mon, 21 Apr 2025) EllapsedTime: 76.6 seconds RetCode: 0 Status: OK PackageFile: netboost_2.16.0.tar.gz PackageFileSize: 1.132 MiB