Package: netboost Version: 2.16.0 Command: /home/biocbuild/R/R/bin/R CMD build --keep-empty-dirs --no-resave-data netboost StartedAt: 2025-10-14 03:02:42 -0000 (Tue, 14 Oct 2025) EndedAt: 2025-10-14 03:04:02 -0000 (Tue, 14 Oct 2025) EllapsedTime: 80.1 seconds RetCode: 1 Status: ERROR PackageFile: None PackageFileSize: NA