Package: netboost Version: 2.16.0 Command: /Library/Frameworks/R.framework/Resources/bin/R CMD build --keep-empty-dirs --no-resave-data netboost StartedAt: 2025-10-14 05:38:16 -0400 (Tue, 14 Oct 2025) EndedAt: 2025-10-14 05:39:31 -0400 (Tue, 14 Oct 2025) EllapsedTime: 75.4 seconds RetCode: 0 Status: OK PackageFile: netboost_2.16.0.tar.gz PackageFileSize: 1.133 MiB