Package: netboost Version: 2.16.0 Command: rm -rf netboost.buildbin-libdir && mkdir netboost.buildbin-libdir && /Users/biocbuild/BBS/utils/build-universal.sh netboost_2.16.0.tar.gz /Library/Frameworks/R.framework/Resources/bin/R netboost.buildbin-libdir StartedAt: 2025-10-15 19:36:09 -0400 (Wed, 15 Oct 2025) EndedAt: 2025-10-15 19:37:13 -0400 (Wed, 15 Oct 2025) EllapsedTime: 63.3 seconds RetCode: 0 Status: OK PackageFile: netboost_2.16.0.tgz PackageFileSize: 1.115 MiB