Package: nempi Version: 1.16.0 Command: /Library/Frameworks/R.framework/Resources/bin/R CMD check --install=check:nempi.install-out.txt --library=/Library/Frameworks/R.framework/Resources/library --no-vignettes --timings nempi_1.16.0.tar.gz StartedAt: 2025-10-14 07:25:48 -0400 (Tue, 14 Oct 2025) EndedAt: 2025-10-14 07:31:03 -0400 (Tue, 14 Oct 2025) EllapsedTime: 314.1 seconds RetCode: 0 Status: OK CheckDir: nempi.Rcheck Warnings: 0