Package: nempi Version: 1.16.0 Command: /home/biocbuild/R/R/bin/R CMD check --install=check:nempi.install-out.txt --library=/home/biocbuild/R/R/site-library --no-vignettes --timings nempi_1.16.0.tar.gz StartedAt: 2025-10-14 11:56:10 -0000 (Tue, 14 Oct 2025) EndedAt: 2025-10-14 11:59:27 -0000 (Tue, 14 Oct 2025) EllapsedTime: 197.3 seconds RetCode: 0 Status: OK CheckDir: nempi.Rcheck Warnings: 0