Package: nempi Version: 1.16.0 Command: /Library/Frameworks/R.framework/Resources/bin/R CMD build --keep-empty-dirs --no-resave-data nempi StartedAt: 2025-10-14 05:36:32 -0400 (Tue, 14 Oct 2025) EndedAt: 2025-10-14 05:37:28 -0400 (Tue, 14 Oct 2025) EllapsedTime: 56.4 seconds RetCode: 0 Status: OK PackageFile: nempi_1.16.0.tar.gz PackageFileSize: 603.1 KiB