Package: ndexr Version: 1.30.0 Command: /Library/Frameworks/R.framework/Resources/bin/R CMD build --keep-empty-dirs --no-resave-data ndexr StartedAt: 2025-10-13 21:04:52 -0400 (Mon, 13 Oct 2025) EndedAt: 2025-10-13 21:05:15 -0400 (Mon, 13 Oct 2025) EllapsedTime: 23.2 seconds RetCode: 0 Status: OK PackageFile: ndexr_1.30.0.tar.gz PackageFileSize: 946.5 KiB