Package: ncGTW Version: 1.22.0 Command: /Library/Frameworks/R.framework/Resources/bin/R CMD INSTALL ncGTW StartedAt: 2025-10-13 16:21:09 -0400 (Mon, 13 Oct 2025) EndedAt: 2025-10-13 16:23:26 -0400 (Mon, 13 Oct 2025) EllapsedTime: 136.8 seconds RetCode: 0 Status: OK