Package: ncGTW Version: 1.22.0 Command: rm -rf ncGTW.buildbin-libdir && mkdir ncGTW.buildbin-libdir && /Users/biocbuild/BBS/utils/build-universal.sh ncGTW_1.22.0.tar.gz /Library/Frameworks/R.framework/Resources/bin/R ncGTW.buildbin-libdir StartedAt: 2025-10-14 14:14:56 -0400 (Tue, 14 Oct 2025) EndedAt: 2025-10-14 14:17:56 -0400 (Tue, 14 Oct 2025) EllapsedTime: 180.8 seconds RetCode: 0 Status: OK PackageFile: ncGTW_1.22.0.tgz PackageFileSize: 2.103 MiB