Package: ncGTW Version: 1.22.0 Command: /home/biocbuild/R/R/bin/R CMD check --install=check:ncGTW.install-out.txt --library=/home/biocbuild/R/R/site-library --no-vignettes --timings ncGTW_1.22.0.tar.gz StartedAt: 2025-10-14 11:54:51 -0000 (Tue, 14 Oct 2025) EndedAt: 2025-10-14 12:06:55 -0000 (Tue, 14 Oct 2025) EllapsedTime: 724.1 seconds RetCode: 0 Status: OK CheckDir: ncGTW.Rcheck Warnings: 0