Package: ncGTW Version: 1.22.0 Command: /home/biocbuild/R/R/bin/R CMD build --keep-empty-dirs --no-resave-data ncGTW StartedAt: 2025-10-14 02:59:59 -0000 (Tue, 14 Oct 2025) EndedAt: 2025-10-14 03:04:25 -0000 (Tue, 14 Oct 2025) EllapsedTime: 266.2 seconds RetCode: 0 Status: OK PackageFile: ncGTW_1.22.0.tar.gz PackageFileSize: 2.237 MiB