Package: ncGTW Version: 1.22.0 Command: /Library/Frameworks/R.framework/Resources/bin/R CMD check --install=check:ncGTW.install-out.txt --library=/Library/Frameworks/R.framework/Resources/library --no-vignettes --timings ncGTW_1.22.0.tar.gz StartedAt: 2025-10-15 05:48:29 -0400 (Wed, 15 Oct 2025) EndedAt: 2025-10-15 05:58:58 -0400 (Wed, 15 Oct 2025) EllapsedTime: 628.2 seconds RetCode: 0 Status: OK CheckDir: ncGTW.Rcheck Warnings: 0