Package: mzR Version: 2.42.0 Command: /Library/Frameworks/R.framework/Resources/bin/R CMD INSTALL mzR StartedAt: 2025-10-13 15:24:42 -0400 (Mon, 13 Oct 2025) EndedAt: 2025-10-13 15:41:33 -0400 (Mon, 13 Oct 2025) EllapsedTime: 1011.1 seconds RetCode: 0 Status: OK