Package: mzR Version: 2.42.0 Command: /Library/Frameworks/R.framework/Resources/bin/R CMD INSTALL mzR StartedAt: 2025-10-13 15:56:13 -0400 (Mon, 13 Oct 2025) EndedAt: 2025-10-13 16:03:53 -0400 (Mon, 13 Oct 2025) EllapsedTime: 460.2 seconds RetCode: 0 Status: OK