Package: musicatk Version: 2.2.2 Command: /Library/Frameworks/R.framework/Resources/bin/R CMD check --install=check:musicatk.install-out.txt --library=/Library/Frameworks/R.framework/Resources/library --no-vignettes --timings musicatk_2.2.2.tar.gz StartedAt: 2025-10-14 07:20:17 -0400 (Tue, 14 Oct 2025) EndedAt: 2025-10-14 07:43:14 -0400 (Tue, 14 Oct 2025) EllapsedTime: 1376.9 seconds RetCode: 0 Status: OK CheckDir: musicatk.Rcheck Warnings: 0