Package: musicatk Version: 2.2.0 Command: /Library/Frameworks/R.framework/Resources/bin/R CMD check --install=check:musicatk.install-out.txt --library=/Library/Frameworks/R.framework/Resources/library --no-vignettes --timings musicatk_2.2.0.tar.gz StartedAt: 2025-04-21 20:36:27 -0400 (Mon, 21 Apr 2025) EndedAt: 2025-04-21 20:41:37 -0400 (Mon, 21 Apr 2025) EllapsedTime: 310.0 seconds RetCode: 0 Status: OK CheckDir: musicatk.Rcheck Warnings: 0