Package: musicatk Version: 2.2.1 Command: /Library/Frameworks/R.framework/Resources/bin/R CMD check --install=check:musicatk.install-out.txt --library=/Library/Frameworks/R.framework/Resources/library --no-vignettes --timings musicatk_2.2.1.tar.gz StartedAt: 2025-10-01 05:29:35 -0400 (Wed, 01 Oct 2025) EndedAt: 2025-10-01 05:45:27 -0400 (Wed, 01 Oct 2025) EllapsedTime: 952.4 seconds RetCode: 0 Status: OK CheckDir: musicatk.Rcheck Warnings: 0