Package: muscat Version: 1.22.0 Command: /home/biocbuild/bbs-3.21-bioc/R/bin/R CMD check --install=check:muscat.install-out.txt --library=/home/biocbuild/bbs-3.21-bioc/R/site-library --timings muscat_1.22.0.tar.gz StartedAt: 2025-10-16 01:34:04 -0400 (Thu, 16 Oct 2025) EndedAt: 2025-10-16 01:45:11 -0400 (Thu, 16 Oct 2025) EllapsedTime: 667.2 seconds RetCode: 1 Status: ERROR CheckDir: muscat.Rcheck Warnings: NA