Package: multtest Version: 2.64.0 Command: E:\biocbuild\bbs-3.21-bioc\R\bin\R.exe CMD INSTALL multtest StartedAt: 2025-08-14 15:38:03 -0400 (Thu, 14 Aug 2025) EndedAt: 2025-08-14 15:38:50 -0400 (Thu, 14 Aug 2025) EllapsedTime: 47.4 seconds RetCode: 0 Status: OK