Package: multistateQTL Version: 2.0.0 Command: E:\biocbuild\bbs-3.21-bioc\R\bin\R.exe CMD INSTALL multistateQTL StartedAt: 2025-08-14 16:29:05 -0400 (Thu, 14 Aug 2025) EndedAt: 2025-08-14 16:30:00 -0400 (Thu, 14 Aug 2025) EllapsedTime: 55.0 seconds RetCode: 0 Status: OK