Package: multistateQTL Version: 2.0.0 Command: /home/biocbuild/bbs-3.21-bioc/R/bin/R CMD INSTALL multistateQTL StartedAt: 2025-10-01 15:34:43 -0400 (Wed, 01 Oct 2025) EndedAt: 2025-10-01 15:35:11 -0400 (Wed, 01 Oct 2025) EllapsedTime: 28.3 seconds RetCode: 0 Status: OK