Package: multistateQTL Version: 2.0.0 Command: /Library/Frameworks/R.framework/Resources/bin/R CMD INSTALL multistateQTL StartedAt: 2025-10-09 15:56:47 -0400 (Thu, 09 Oct 2025) EndedAt: 2025-10-09 15:57:47 -0400 (Thu, 09 Oct 2025) EllapsedTime: 59.7 seconds RetCode: 0 Status: OK