Package: multistateQTL Version: 2.0.0 Command: /Library/Frameworks/R.framework/Resources/bin/R CMD build --keep-empty-dirs --no-resave-data multistateQTL StartedAt: 2025-10-09 21:01:33 -0400 (Thu, 09 Oct 2025) EndedAt: 2025-10-09 21:03:40 -0400 (Thu, 09 Oct 2025) EllapsedTime: 126.9 seconds RetCode: 0 Status: OK PackageFile: multistateQTL_2.0.0.tar.gz PackageFileSize: 856.5 KiB