Package: multistateQTL Version: 2.0.0 Command: rm -rf multistateQTL.buildbin-libdir && mkdir multistateQTL.buildbin-libdir && /Users/biocbuild/BBS/utils/build-universal.sh multistateQTL_2.0.0.tar.gz /Library/Frameworks/R.framework/Resources/bin/R multistateQTL.buildbin-libdir StartedAt: 2025-10-10 14:13:54 -0400 (Fri, 10 Oct 2025) EndedAt: 2025-10-10 14:15:30 -0400 (Fri, 10 Oct 2025) EllapsedTime: 95.1 seconds RetCode: 0 Status: OK PackageFile: multistateQTL_2.0.0.tgz PackageFileSize: 933.9 KiB