Package: multistateQTL Version: 2.0.0 Command: /home/biocbuild/R/R/bin/R CMD INSTALL multistateQTL StartedAt: 2025-09-29 20:47:38 -0000 (Mon, 29 Sep 2025) EndedAt: 2025-09-29 20:48:16 -0000 (Mon, 29 Sep 2025) EllapsedTime: 38.1 seconds RetCode: 0 Status: OK