Package: multistateQTL Version: 2.0.0 Command: /home/biocbuild/R/R/bin/R CMD check --install=check:multistateQTL.install-out.txt --library=/home/biocbuild/R/R/site-library --no-vignettes --timings multistateQTL_2.0.0.tar.gz StartedAt: 2025-09-30 12:18:09 -0000 (Tue, 30 Sep 2025) EndedAt: 2025-09-30 12:23:18 -0000 (Tue, 30 Sep 2025) EllapsedTime: 308.5 seconds RetCode: 0 Status: OK CheckDir: multistateQTL.Rcheck Warnings: 0