Package: multistateQTL Version: 2.0.0 Command: /Library/Frameworks/R.framework/Resources/bin/R CMD INSTALL multistateQTL StartedAt: 2025-09-29 16:59:40 -0400 (Mon, 29 Sep 2025) EndedAt: 2025-09-29 17:00:14 -0400 (Mon, 29 Sep 2025) EllapsedTime: 33.8 seconds RetCode: 0 Status: OK