Package: multistateQTL Version: 2.0.0 Command: /Library/Frameworks/R.framework/Resources/bin/R CMD check --install=check:multistateQTL.install-out.txt --library=/Library/Frameworks/R.framework/Resources/library --no-vignettes --timings multistateQTL_2.0.0.tar.gz StartedAt: 2025-10-01 05:23:37 -0400 (Wed, 01 Oct 2025) EndedAt: 2025-10-01 05:28:13 -0400 (Wed, 01 Oct 2025) EllapsedTime: 275.4 seconds RetCode: 0 Status: OK CheckDir: multistateQTL.Rcheck Warnings: 0