Package: multicrispr Version: 1.18.0 Command: E:\biocbuild\bbs-3.21-bioc\R\bin\R.exe CMD INSTALL multicrispr StartedAt: 2025-08-14 16:55:45 -0400 (Thu, 14 Aug 2025) EndedAt: 2025-08-14 16:56:49 -0400 (Thu, 14 Aug 2025) EllapsedTime: 63.9 seconds RetCode: 0 Status: OK