Package: multicrispr Version: 1.18.0 Command: E:\biocbuild\bbs-3.21-bioc\R\bin\R.exe CMD check --no-multiarch --install=check:multicrispr.install-out.txt --library=E:\biocbuild\bbs-3.21-bioc\R\library --no-vignettes --timings multicrispr_1.18.0.tar.gz StartedAt: 2025-08-15 04:41:55 -0400 (Fri, 15 Aug 2025) EndedAt: 2025-08-15 04:50:31 -0400 (Fri, 15 Aug 2025) EllapsedTime: 516.2 seconds RetCode: 0 Status: OK CheckDir: multicrispr.Rcheck Warnings: 0