Package: multicrispr Version: 1.18.0 Command: /home/biocbuild/bbs-3.21-bioc/R/bin/R CMD INSTALL multicrispr StartedAt: 2025-10-15 15:42:47 -0400 (Wed, 15 Oct 2025) EndedAt: 2025-10-15 15:43:23 -0400 (Wed, 15 Oct 2025) EllapsedTime: 36.1 seconds RetCode: 0 Status: OK