Package: multicrispr Version: 1.18.0 Command: /Library/Frameworks/R.framework/Resources/bin/R CMD INSTALL multicrispr StartedAt: 2025-10-13 16:17:53 -0400 (Mon, 13 Oct 2025) EndedAt: 2025-10-13 16:19:09 -0400 (Mon, 13 Oct 2025) EllapsedTime: 75.9 seconds RetCode: 0 Status: OK