Package: multicrispr Version: 1.18.0 Command: /Library/Frameworks/R.framework/Resources/bin/R CMD build --keep-empty-dirs --no-resave-data multicrispr StartedAt: 2025-10-13 20:59:34 -0400 (Mon, 13 Oct 2025) EndedAt: 2025-10-13 21:02:44 -0400 (Mon, 13 Oct 2025) EllapsedTime: 189.8 seconds RetCode: 0 Status: OK PackageFile: multicrispr_1.18.0.tar.gz PackageFileSize: 2.586 MiB