Package: multicrispr Version: 1.18.0 Command: rm -rf multicrispr.buildbin-libdir && mkdir multicrispr.buildbin-libdir && /Users/biocbuild/BBS/utils/build-universal.sh multicrispr_1.18.0.tar.gz /Library/Frameworks/R.framework/Resources/bin/R multicrispr.buildbin-libdir StartedAt: 2025-10-14 14:13:01 -0400 (Tue, 14 Oct 2025) EndedAt: 2025-10-14 14:14:58 -0400 (Tue, 14 Oct 2025) EllapsedTime: 116.3 seconds RetCode: 0 Status: OK PackageFile: multicrispr_1.18.0.tgz PackageFileSize: 2.744 MiB