Package: multicrispr Version: 1.18.0 Command: /home/biocbuild/R/R/bin/R CMD check --install=check:multicrispr.install-out.txt --library=/home/biocbuild/R/R/site-library --no-vignettes --timings multicrispr_1.18.0.tar.gz StartedAt: 2025-10-14 11:48:05 -0000 (Tue, 14 Oct 2025) EndedAt: 2025-10-14 11:56:55 -0000 (Tue, 14 Oct 2025) EllapsedTime: 529.9 seconds RetCode: 0 Status: OK CheckDir: multicrispr.Rcheck Warnings: 0