Package: multiWGCNA Version: 1.6.0 Command: /home/biocbuild/bbs-3.21-bioc/R/bin/R CMD INSTALL multiWGCNA StartedAt: 2025-10-15 15:46:49 -0400 (Wed, 15 Oct 2025) EndedAt: 2025-10-15 15:47:23 -0400 (Wed, 15 Oct 2025) EllapsedTime: 34.2 seconds RetCode: 0 Status: OK