Package: multiWGCNA Version: 1.6.0 Command: /home/biocbuild/bbs-3.21-bioc/R/bin/R CMD check --install=check:multiWGCNA.install-out.txt --library=/home/biocbuild/bbs-3.21-bioc/R/site-library --timings multiWGCNA_1.6.0.tar.gz StartedAt: 2025-10-16 01:33:32 -0400 (Thu, 16 Oct 2025) EndedAt: 2025-10-16 01:43:48 -0400 (Thu, 16 Oct 2025) EllapsedTime: 616.2 seconds RetCode: 1 Status: ERROR CheckDir: multiWGCNA.Rcheck Warnings: NA