Package: multiWGCNA Version: 1.6.0 Command: /home/biocbuild/bbs-3.21-bioc/R/bin/R CMD build --keep-empty-dirs --no-resave-data multiWGCNA StartedAt: 2025-10-15 18:46:58 -0400 (Wed, 15 Oct 2025) EndedAt: 2025-10-15 18:51:09 -0400 (Wed, 15 Oct 2025) EllapsedTime: 251.2 seconds RetCode: 0 Status: OK PackageFile: multiWGCNA_1.6.0.tar.gz PackageFileSize: 3.427 MiB